BEGIN:VCALENDAR
VERSION:2.0
PRODID:-//The Ohio Council for Cognitive Health - ECPv6.15.18//NONSGML v1.0//EN
CALSCALE:GREGORIAN
METHOD:PUBLISH
X-ORIGINAL-URL:https://ocfch.org
X-WR-CALDESC:Events for The Ohio Council for Cognitive Health
REFRESH-INTERVAL;VALUE=DURATION:PT1H
X-Robots-Tag:noindex
X-PUBLISHED-TTL:PT1H
BEGIN:VTIMEZONE
TZID:America/New_York
BEGIN:DAYLIGHT
TZOFFSETFROM:-0500
TZOFFSETTO:-0400
TZNAME:EDT
DTSTART:20250309T070000
END:DAYLIGHT
BEGIN:STANDARD
TZOFFSETFROM:-0400
TZOFFSETTO:-0500
TZNAME:EST
DTSTART:20251102T060000
END:STANDARD
BEGIN:DAYLIGHT
TZOFFSETFROM:-0500
TZOFFSETTO:-0400
TZNAME:EDT
DTSTART:20260308T070000
END:DAYLIGHT
BEGIN:STANDARD
TZOFFSETFROM:-0400
TZOFFSETTO:-0500
TZNAME:EST
DTSTART:20261101T060000
END:STANDARD
BEGIN:DAYLIGHT
TZOFFSETFROM:-0500
TZOFFSETTO:-0400
TZNAME:EDT
DTSTART:20270314T070000
END:DAYLIGHT
BEGIN:STANDARD
TZOFFSETFROM:-0400
TZOFFSETTO:-0500
TZNAME:EST
DTSTART:20271107T060000
END:STANDARD
END:VTIMEZONE
BEGIN:VEVENT
DTSTART;TZID=America/New_York:20260330T120000
DTEND;TZID=America/New_York:20260330T131500
DTSTAMP:20260425T144333
CREATED:20260126T212450Z
LAST-MODIFIED:20260318T133718Z
UID:5366-1774872000-1774876500@ocfch.org
SUMMARY:Project ECHO: Recognizing and Managing Gastrointestinal Conditions in Older Adults with IDD and Dementia
DESCRIPTION:Project ECHO® Spring 2026 Series: Differential Diagnosis in Aging Adults with Intellectual Disability: Common Treatable Conditions\nRecognizing and Managing Gastrointestinal Conditions in Older Adults with IDD and Dementia\nCraig Escudé\, MD\, FAAFP\, FAADM\, FAAIDD\nPresident\, Intellect Ability \nThis Project ECHO series is a free\, case-based education program for health care and human service providers seeking to strengthen their skills in supporting people with intellectual and developmental disabilities affected by dementia. Each session features a brief expert presentation\, a participant-submitted case and a facilitated group discussion focused on shared learning and practical application.
URL:https://ocfch.org/event/recognizing-and-managing-gastrointestinal-conditions-in-older-adults-with-idd-and-dementia/
LOCATION:Virtual
END:VEVENT
END:VCALENDAR