BEGIN:VCALENDAR
VERSION:2.0
PRODID:-//The Ohio Council for Cognitive Health - ECPv6.15.18//NONSGML v1.0//EN
CALSCALE:GREGORIAN
METHOD:PUBLISH
X-ORIGINAL-URL:https://ocfch.org
X-WR-CALDESC:Events for The Ohio Council for Cognitive Health
REFRESH-INTERVAL;VALUE=DURATION:PT1H
X-Robots-Tag:noindex
X-PUBLISHED-TTL:PT1H
BEGIN:VTIMEZONE
TZID:America/New_York
BEGIN:DAYLIGHT
TZOFFSETFROM:-0500
TZOFFSETTO:-0400
TZNAME:EDT
DTSTART:20250309T070000
END:DAYLIGHT
BEGIN:STANDARD
TZOFFSETFROM:-0400
TZOFFSETTO:-0500
TZNAME:EST
DTSTART:20251102T060000
END:STANDARD
BEGIN:DAYLIGHT
TZOFFSETFROM:-0500
TZOFFSETTO:-0400
TZNAME:EDT
DTSTART:20260308T070000
END:DAYLIGHT
BEGIN:STANDARD
TZOFFSETFROM:-0400
TZOFFSETTO:-0500
TZNAME:EST
DTSTART:20261101T060000
END:STANDARD
BEGIN:DAYLIGHT
TZOFFSETFROM:-0500
TZOFFSETTO:-0400
TZNAME:EDT
DTSTART:20270314T070000
END:DAYLIGHT
BEGIN:STANDARD
TZOFFSETFROM:-0400
TZOFFSETTO:-0500
TZNAME:EST
DTSTART:20271107T060000
END:STANDARD
END:VTIMEZONE
BEGIN:VEVENT
DTSTART;TZID=America/New_York:20260409T100000
DTEND;TZID=America/New_York:20260409T123000
DTSTAMP:20260425T162058
CREATED:20251204T170915Z
LAST-MODIFIED:20260318T134226Z
UID:5347-1775728800-1775737800@ocfch.org
SUMMARY:Free Dementia Friends and Dementia Champions Training
DESCRIPTION:Please join The Ohio Council for Cognitive Health for a free\, virtual Dementia Friends Session with optional Dementia Friends Champions. \nAttendees interested in becoming a Dementia Friend will participate for the first 75 minutes. Attendees seeking to become a Dementia Friends Champion will participate for the entire 2.5 hours. \nSessions are offered twice a month. The daytime session is on the second Thursday from 10:00 AM – 12:30 PM ET and the evening session is on the fourth Tuesday from 6:00 – 8:30 PM ET. \nPRE-REGISTRATION IS REQUIRED – REGISTER HERE. \nDementia Friends is a global\, call-to-action movement developed by the Alzheimer’s Society in the United Kingdom and now underway in the United States. The goal is to help everyone in a community understand how dementia impacts individuals and families\, and things we can each do to make a difference in the lives of those affected. In this free\, virtual session we will cover the basics of dementia including common types\, signs and symptoms\, communication tips\, community resources and more. An emphasis on positive messaging and dementia stigma reduction is a key part of this program\, designed to reach audiences in all community sectors. \nA Dementia Friends Champion designation is received after attending a 2.5-hour free\, virtual training which includes a Dementia Friends session and additional information\, resources and materials needed by Champions to deliver free virtual or in-person Dementia Friends sessions throughout their communities.
URL:https://ocfch.org/event/df-session-031226/
LOCATION:Virtual
CATEGORIES:Dementia Friends Sessions – Daytime
END:VEVENT
BEGIN:VEVENT
DTSTART;TZID=America/New_York:20260409T120000
DTEND;TZID=America/New_York:20260409T130000
DTSTAMP:20260425T162058
CREATED:20260323T130955Z
LAST-MODIFIED:20260323T131041Z
UID:5570-1775736000-1775739600@ocfch.org
SUMMARY:OHIO GWEP: GERIATRIC RESOURCE COURSE
DESCRIPTION:This program is designed to provide faculty\, clinical providers\, community providers and anyone working with older adults with knowledge about geriatric issues and firsthand\nexperience with important geriatric resources. It is our goal that learners can serve as resource persons in their settings. Over the course of 14 weeks\, participants will learn from experts about topics ranging from Healthy Aging through End of Life for older adults including Geriatric Syndromes\, Social Determinants of Health\, Alzheimer’s Disease and Related Dementias\, Medicare and more. The course consists of weekly online lectures via ZOOM and for those unable to attend lecture recordings will be available in a learning management system. Participants that attend all 14 one-hour sessions will be eligible for a drawing for one of two $100 gas cards (grant members are not eligible). The webinar series course is approved for CME/CE hours for physicians\, nurses\, social workers\, counselors and MFTs. \nUp to 14 CE hours are available\,\n1.00 CE per session\nThursdays from 12 – 1:00 PM ET\nStarting March 26th – June 25th \nCONTACT\nIf you have any questions about this course\, please contact Denise Kropp (djkropp@neomed.edu) or Haley Prestwich (hprestwich@neomed.edu). \nDOWNLOAD FLYER \nREGISTER
URL:https://ocfch.org/event/ohio-gwep-geriatric-resource-course-3/
LOCATION:Virtual
CATEGORIES:Geriatric Issues
END:VEVENT
END:VCALENDAR