BEGIN:VCALENDAR
VERSION:2.0
PRODID:-//The Ohio Council for Cognitive Health - ECPv6.15.18//NONSGML v1.0//EN
CALSCALE:GREGORIAN
METHOD:PUBLISH
X-WR-CALNAME:The Ohio Council for Cognitive Health
X-ORIGINAL-URL:https://ocfch.org
X-WR-CALDESC:Events for The Ohio Council for Cognitive Health
REFRESH-INTERVAL;VALUE=DURATION:PT1H
X-Robots-Tag:noindex
X-PUBLISHED-TTL:PT1H
BEGIN:VTIMEZONE
TZID:America/New_York
BEGIN:DAYLIGHT
TZOFFSETFROM:-0500
TZOFFSETTO:-0400
TZNAME:EDT
DTSTART:20250309T070000
END:DAYLIGHT
BEGIN:STANDARD
TZOFFSETFROM:-0400
TZOFFSETTO:-0500
TZNAME:EST
DTSTART:20251102T060000
END:STANDARD
BEGIN:DAYLIGHT
TZOFFSETFROM:-0500
TZOFFSETTO:-0400
TZNAME:EDT
DTSTART:20260308T070000
END:DAYLIGHT
BEGIN:STANDARD
TZOFFSETFROM:-0400
TZOFFSETTO:-0500
TZNAME:EST
DTSTART:20261101T060000
END:STANDARD
BEGIN:DAYLIGHT
TZOFFSETFROM:-0500
TZOFFSETTO:-0400
TZNAME:EDT
DTSTART:20270314T070000
END:DAYLIGHT
BEGIN:STANDARD
TZOFFSETFROM:-0400
TZOFFSETTO:-0500
TZNAME:EST
DTSTART:20271107T060000
END:STANDARD
END:VTIMEZONE
BEGIN:VEVENT
DTSTART;TZID=America/New_York:20260413T120000
DTEND;TZID=America/New_York:20260413T131500
DTSTAMP:20260425T143001
CREATED:20260126T212851Z
LAST-MODIFIED:20260318T133456Z
UID:5370-1776081600-1776086100@ocfch.org
SUMMARY:Project ECHO: Diabetes and Heart Disease in Adults with IDD and Dementia: What It Looks Like and How to Help
DESCRIPTION:Project ECHO® Spring 2026 Series: Differential Diagnosis in Aging Adults with Intellectual Disability: Common Treatable Conditions\nDiabetes and Heart Disease in Adults with IDD and Dementia: What It Looks Like and How to Help\nCatherine Conway\, MS\, RDN\, CDN\, CDCES\nChief of Nutritional Services and Diabetes Program\, YAI National Institute \nThis Project ECHO series is a free\, case-based education program for health care and human service providers seeking to strengthen their skills in supporting people with intellectual and developmental disabilities affected by dementia. Each session features a brief expert presentation\, a participant-submitted case and a facilitated group discussion focused on shared learning and practical application.
URL:https://ocfch.org/event/project-echo-diabetes-and-heart-disease-in-adults-with-idd-and-dementia/
LOCATION:Virtual
END:VEVENT
BEGIN:VEVENT
DTSTART;TZID=America/New_York:20260413T160000
DTEND;TZID=America/New_York:20260413T173000
DTSTAMP:20260425T143001
CREATED:20260401T130027Z
LAST-MODIFIED:20260401T130157Z
UID:5575-1776096000-1776101400@ocfch.org
SUMMARY:Panel Discussion on Dementia-Inclusive Literature
DESCRIPTION:Dementia Friendly Nevada’s Distinguished Speaker Series\nJoin us for our monthly educational Distinguished Speaker Series\, free and open to all!\nSecond Monday of Each Month\nOnline\, via Zoom \nMonday\, April 13\, 2026 | 4:00PM\nPanel Discussion on Dementia-Inclusive Literature \nRegister here!
URL:https://ocfch.org/event/panel-discussion-on-dementia-inclusive-literature/
LOCATION:Virtual
CATEGORIES:Dementia Friendly America
END:VEVENT
END:VCALENDAR