BEGIN:VCALENDAR
VERSION:2.0
PRODID:-//The Ohio Council for Cognitive Health - ECPv6.15.18//NONSGML v1.0//EN
CALSCALE:GREGORIAN
METHOD:PUBLISH
X-WR-CALNAME:The Ohio Council for Cognitive Health
X-ORIGINAL-URL:https://ocfch.org
X-WR-CALDESC:Events for The Ohio Council for Cognitive Health
REFRESH-INTERVAL;VALUE=DURATION:PT1H
X-Robots-Tag:noindex
X-PUBLISHED-TTL:PT1H
BEGIN:VTIMEZONE
TZID:America/New_York
BEGIN:DAYLIGHT
TZOFFSETFROM:-0500
TZOFFSETTO:-0400
TZNAME:EDT
DTSTART:20250309T070000
END:DAYLIGHT
BEGIN:STANDARD
TZOFFSETFROM:-0400
TZOFFSETTO:-0500
TZNAME:EST
DTSTART:20251102T060000
END:STANDARD
BEGIN:DAYLIGHT
TZOFFSETFROM:-0500
TZOFFSETTO:-0400
TZNAME:EDT
DTSTART:20260308T070000
END:DAYLIGHT
BEGIN:STANDARD
TZOFFSETFROM:-0400
TZOFFSETTO:-0500
TZNAME:EST
DTSTART:20261101T060000
END:STANDARD
BEGIN:DAYLIGHT
TZOFFSETFROM:-0500
TZOFFSETTO:-0400
TZNAME:EDT
DTSTART:20270314T070000
END:DAYLIGHT
BEGIN:STANDARD
TZOFFSETFROM:-0400
TZOFFSETTO:-0500
TZNAME:EST
DTSTART:20271107T060000
END:STANDARD
END:VTIMEZONE
BEGIN:VEVENT
DTSTART;TZID=America/New_York:20260514T100000
DTEND;TZID=America/New_York:20260514T123000
DTSTAMP:20260425T233957
CREATED:20251204T170712Z
LAST-MODIFIED:20260318T134426Z
UID:5345-1778752800-1778761800@ocfch.org
SUMMARY:Free Dementia Friends and Dementia Champions Training
DESCRIPTION:Please join The Ohio Council for Cognitive Health for a free\, virtual Dementia Friends Session with optional Dementia Friends Champions. \nAttendees interested in becoming a Dementia Friend will participate for the first 75 minutes. Attendees seeking to become a Dementia Friends Champion will participate for the entire 2.5 hours. \nSessions are offered twice a month. The daytime session is on the second Thursday from 10:00 AM – 12:30 PM ET and the evening session is on the fourth Tuesday from 6:00 – 8:30 PM ET. \nPRE-REGISTRATION IS REQUIRED – REGISTER HERE. \nDementia Friends is a global\, call-to-action movement developed by the Alzheimer’s Society in the United Kingdom and now underway in the United States. The goal is to help everyone in a community understand how dementia impacts individuals and families\, and things we can each do to make a difference in the lives of those affected. In this free\, virtual session we will cover the basics of dementia including common types\, signs and symptoms\, communication tips\, community resources and more. An emphasis on positive messaging and dementia stigma reduction is a key part of this program\, designed to reach audiences in all community sectors. \nA Dementia Friends Champion designation is received after attending a 2.5-hour free\, virtual training which includes a Dementia Friends session and additional information\, resources and materials needed by Champions to deliver free virtual or in-person Dementia Friends sessions throughout their communities.
URL:https://ocfch.org/event/df-session-021226/
LOCATION:Virtual
CATEGORIES:Dementia Friends Sessions – Daytime
END:VEVENT
BEGIN:VEVENT
DTSTART;TZID=America/New_York:20260518T120000
DTEND;TZID=America/New_York:20260518T131500
DTSTAMP:20260425T233957
CREATED:20260126T214837Z
LAST-MODIFIED:20260318T133222Z
UID:5379-1779105600-1779110100@ocfch.org
SUMMARY:Project ECHO: Series Wrap-Up Discussion
DESCRIPTION:Project ECHO® Spring 2026 Series: Differential Diagnosis in Aging Adults with Intellectual Disability: Common Treatable Conditions\nWrap-Up Discussion (of previous 4 sessions)\nThis Project ECHO series is a free\, case-based education program for health care and human service providers seeking to strengthen their skills in supporting people with intellectual and developmental disabilities affected by dementia. Each session features a brief expert presentation\, a participant-submitted case and a facilitated group discussion focused on shared learning and practical application.
URL:https://ocfch.org/event/project-echo-series-wrap-up-discussion/
LOCATION:Virtual
END:VEVENT
BEGIN:VEVENT
DTSTART;TZID=America/New_York:20260526T180000
DTEND;TZID=America/New_York:20260526T203000
DTSTAMP:20260425T233957
CREATED:20251204T171228Z
LAST-MODIFIED:20260323T122450Z
UID:5349-1779818400-1779827400@ocfch.org
SUMMARY:Free Dementia Friends and Dementia Champions Training
DESCRIPTION:Please join The Ohio Council for Cognitive Health for a free\, virtual Dementia Friends Session with optional Dementia Friends Champions. \nAttendees interested in becoming a Dementia Friend will participate for the first 75 minutes. Attendees seeking to become a Dementia Friends Champion will participate for the entire 2.5 hours. \nSessions are offered twice a month. The daytime session is on the second Thursday from 10:00 AM – 12:30 PM ET and the evening session is on the fourth Tuesday from 6:00 – 8:30 PM ET. \nPRE-REGISTRATION IS REQUIRED – REGISTER HERE. \nDementia Friends is a global\, call-to-action movement developed by the Alzheimer’s Society in the United Kingdom and now underway in the United States. The goal is to help everyone in a community understand how dementia impacts individuals and families\, and things we can each do to make a difference in the lives of those affected. In this free\, virtual session we will cover the basics of dementia including common types\, signs and symptoms\, communication tips\, community resources and more. An emphasis on positive messaging and dementia stigma reduction is a key part of this program\, designed to reach audiences in all community sectors. \nA Dementia Friends Champion designation is received after attending a 2.5-hour free\, virtual training which includes a Dementia Friends session and additional information\, resources and materials needed by Champions to deliver free virtual or in-person Dementia Friends sessions throughout their communities.
URL:https://ocfch.org/event/df-session-052626/
LOCATION:Virtual
CATEGORIES:Dementia Friends Sessions – Evening
END:VEVENT
BEGIN:VEVENT
DTSTART;TZID=America/New_York:20260527T123000
DTEND;TZID=America/New_York:20260527T133000
DTSTAMP:20260425T233957
CREATED:20260302T162858Z
LAST-MODIFIED:20260403T142630Z
UID:5513-1779885000-1779888600@ocfch.org
SUMMARY:GWEP GROW Brain Health ECHO Series | Dementia and Wellness: Supporting Brain Health Through Activity and Nutrition
DESCRIPTION:The GWEP Brain Health ECHO Series is a free education program running monthly on the 4th Wednesday\, 12:30–1:30 p.m. beginning March 25 through June 24\, 2026 \nPresenter: Elizabeth Kinzig\, MA\,CCC-SLP\, Program Coordinator\, Ohio Council for Cognitive Health \nPresentation Description\nSupporting brain health across the lifespan involves many factors – physical activity\, nutrition\, social engagement and novel cognitive activities\, just to name a few. This presentation will focus on physical activity and nutrition when dementia and caregiving enter life’s picture. We will explore practical\, adaptive strategies to address common activity and nutritional challenges in ways that benefit both individuals living with dementia and their care partners. Participants will also learn about helpful community and national resources that promote brain health\, movement\, and nutrition. \nObjectives \n\nShare how physical activity and nutrition support brain health for people living with dementia and their caregivers.\nLearn simple movement and nutrition strategies that can benefit both individuals living with dementia and their caregivers.\nRecognize common challenges to staying active and eating well through the dementia journey.\nExplore practical ways to build healthy routines that support wellness.\nIdentify helpful community and national resources that promote brain health\, physical activity\, and nutrition.\n\nDownload Flyer\nRegister Here
URL:https://ocfch.org/event/gwep-brain-health-echo-052726/
LOCATION:Virtual
CATEGORIES:Brain Health Education
END:VEVENT
BEGIN:VEVENT
DTSTART;TZID=America/New_York:20260611T100000
DTEND;TZID=America/New_York:20260611T123000
DTSTAMP:20260425T233957
CREATED:20251204T170448Z
LAST-MODIFIED:20260323T122722Z
UID:5343-1781172000-1781181000@ocfch.org
SUMMARY:Free Dementia Friends and Dementia Champions Training
DESCRIPTION:Please join The Ohio Council for Cognitive Health for a free\, virtual Dementia Friends Session with optional Dementia Friends Champions. \nAttendees interested in becoming a Dementia Friend will participate for the first 75 minutes. Attendees seeking to become a Dementia Friends Champion will participate for the entire 2.5 hours. \nSessions are offered twice a month. The daytime session is on the second Thursday from 10:00 AM – 12:30 PM ET and the evening session is on the fourth Tuesday from 6:00 – 8:30 PM ET. \nPRE-REGISTRATION IS REQUIRED – REGISTER HERE. \nDementia Friends is a global\, call-to-action movement developed by the Alzheimer’s Society in the United Kingdom and now underway in the United States. The goal is to help everyone in a community understand how dementia impacts individuals and families\, and things we can each do to make a difference in the lives of those affected. In this free\, virtual session we will cover the basics of dementia including common types\, signs and symptoms\, communication tips\, community resources and more. An emphasis on positive messaging and dementia stigma reduction is a key part of this program\, designed to reach audiences in all community sectors. \nA Dementia Friends Champion designation is received after attending a 2.5-hour free\, virtual training which includes a Dementia Friends session and additional information\, resources and materials needed by Champions to deliver free virtual or in-person Dementia Friends sessions throughout their communities.
URL:https://ocfch.org/event/df-session-061126am/
LOCATION:Virtual
CATEGORIES:Dementia Friends Sessions – Daytime
END:VEVENT
BEGIN:VEVENT
DTSTART;TZID=America/New_York:20260624T123000
DTEND;TZID=America/New_York:20260624T133000
DTSTAMP:20260425T233957
CREATED:20260403T143836Z
LAST-MODIFIED:20260403T143836Z
UID:5585-1782304200-1782307800@ocfch.org
SUMMARY:GWEP Brain Health ECHO | When Dementia Doesn’t Travel Alone: The Impact of Comorbidities in Dementia Care
DESCRIPTION:The GWEP Brain Health ECHO Series is a free education program running monthly on the 4th Wednesday\, 12:30–1:30 p.m. beginning March 25 through June 24\, 2026 \nPresenter: Marty Williman\, BSN\, RN\, Program Director\, Ohio Council for Cognitive Health \nPresentation Description\nDementia rarely travels alone\, meaning approximately 70% of individuals living with dementia experience one or more comorbid/coexisting conditions. In this presentation\, we’ll explore the four most common comorbidities seen in individuals living with dementia and the potential impact on quality of life\, health outcomes\, and caregiver burden. Strategies and resources to improve management of comorbidities in dementia care\, while decreasing caregiver burden will be discussed. \nObjectives \n\nExamine the four most common comorbidities seen in individuals living with dementia.\nDiscuss the impact of comorbidities on individuals living with dementia; healthcare costs and caregiver burden.\nIdentify strategies and resources to improve management of comorbidities in dementia care while decreasing caregiver burden.\n\nDownload Flyer\nRegister Here
URL:https://ocfch.org/event/gwep-brain-health-echo-062426/
LOCATION:Virtual
CATEGORIES:Brain Health Education
END:VEVENT
END:VCALENDAR